BEGIN:VCALENDAR
VERSION:2.0
PRODID:-//Arkiv för Barn i Uppsala - ECPv5.1.6//NONSGML v1.0//EN
CALSCALE:GREGORIAN
METHOD:PUBLISH
X-WR-CALNAME:Arkiv för Barn i Uppsala
X-ORIGINAL-URL:https://arkiv.barniuppsala.se
X-WR-CALDESC:Händelser för Arkiv för Barn i Uppsala
BEGIN:VTIMEZONE
TZID:Europe/Stockholm
BEGIN:DAYLIGHT
TZOFFSETFROM:+0100
TZOFFSETTO:+0200
TZNAME:CEST
DTSTART:20170326T010000
END:DAYLIGHT
BEGIN:STANDARD
TZOFFSETFROM:+0200
TZOFFSETTO:+0100
TZNAME:CET
DTSTART:20171029T010000
END:STANDARD
END:VTIMEZONE
BEGIN:VEVENT
DTSTART;TZID=Europe/Stockholm:20170311T110000
DTEND;TZID=Europe/Stockholm:20170311T140000
DTSTAMP:20260420T204845
CREATED:20170309T115010Z
LAST-MODIFIED:20170309T115010Z
UID:11725-1489230000-1489240800@arkiv.barniuppsala.se
SUMMARY:Välkommen på födelsedagskalas!
DESCRIPTION:Brantingsbiblioteket fyller 50 år\nBrantingsbiblioteket fyller 50 år och firar med tårtkalas med 60-talstema. Bo Krister spelar och sjunger. Sagostund för de små. Tävlingar med bokpriser för både barn och vuxna. Försäljning av gallrade böcker. Biblioteket bjuder på tårta. Alla är varmt välkomna! \n\n  \nTid och plats \nLördag 11 mars kl. 11.00–14.00 \nBrantingsbiblioteket \nBilden hämtad från pixabay.com \n\n 0SHARESDela eventet
URL:https://arkiv.barniuppsala.se/event/valkommen-pa-fodelsedagskalas/
LOCATION:Brantingsbiblioteket\, Brantingstorg 5\, 754 34
CATEGORIES:Bibliotek
ATTACH;FMTTYPE=image/jpeg:https://arkiv.barniuppsala.se/wp-content/uploads/2017/03/cake-1227842_640.jpg
ORGANIZER;CN="Bibliotek%20Uppsala":MAILTO:kundtjanst@bibliotekuppsala.se
END:VEVENT
END:VCALENDAR