BEGIN:VCALENDAR
VERSION:2.0
PRODID:-//Arkiv för Barn i Uppsala - ECPv5.1.6//NONSGML v1.0//EN
CALSCALE:GREGORIAN
METHOD:PUBLISH
X-WR-CALNAME:Arkiv för Barn i Uppsala
X-ORIGINAL-URL:https://arkiv.barniuppsala.se
X-WR-CALDESC:Händelser för Arkiv för Barn i Uppsala
BEGIN:VTIMEZONE
TZID:Europe/Stockholm
BEGIN:DAYLIGHT
TZOFFSETFROM:+0100
TZOFFSETTO:+0200
TZNAME:CEST
DTSTART:20150329T010000
END:DAYLIGHT
BEGIN:STANDARD
TZOFFSETFROM:+0200
TZOFFSETTO:+0100
TZNAME:CET
DTSTART:20151025T010000
END:STANDARD
END:VTIMEZONE
BEGIN:VEVENT
DTSTART;TZID=Europe/Stockholm:20151004T170000
DTEND;TZID=Europe/Stockholm:20151004T170000
DTSTAMP:20260420T031232
CREATED:20150925T084519Z
LAST-MODIFIED:20151002T171208Z
UID:3854-1443978000-1443978000@arkiv.barniuppsala.se
SUMMARY:Världens bästa Astrid!
DESCRIPTION:"Du ska inte tro det blir sommar i fall inte nå’n sätter fart"… "Ge barnen kärlek mera kärlek och ännu mera kärlek så kommer folkvettet av sig självt" (Astrid Lindgren i en debatt om barns rättigheter)\n	Citat av vår genomkloka Astrid Lindgren finns det många av. Likaså sångtexter till melodier av Georg Riedel\, Jan Johansson m fl.\n \n\n	Om man vill uppleva allt detta i en och samma konsert ska man bege sig till Sankta Maria kyrka på söndag den 4 oktober kl 16:00. Då sjunger Sankta Maria kyrkans barnkör tillsammans med Markören\, sångerskan ako och musikerna Leif\, Örjan och Grosse. \n0SHARESDela eventet
URL:https://arkiv.barniuppsala.se/event/varldens-basta-astrid/
LOCATION:Sankta Maria kyrka\, Stenhagsvägen 201\, Uppsala\, 752 66\, Sverige
CATEGORIES:Teater och Bio
ATTACH;FMTTYPE=image/jpeg:https://arkiv.barniuppsala.se/wp-content/uploads/2015/09/Lindgren_1960.jpg
GEO:59.8532159;17.5637507
X-APPLE-STRUCTURED-LOCATION;VALUE=URI;X-ADDRESS=Sankta Maria kyrka Stenhagsvägen 201 Uppsala 752 66 Sverige;X-APPLE-RADIUS=500;X-TITLE=Stenhagsvägen 201:geo:17.5637507,59.8532159
END:VEVENT
END:VCALENDAR