BEGIN:VCALENDAR
VERSION:2.0
PRODID:-//Arkiv för Barn i Uppsala - ECPv5.1.6//NONSGML v1.0//EN
CALSCALE:GREGORIAN
METHOD:PUBLISH
X-WR-CALNAME:Arkiv för Barn i Uppsala
X-ORIGINAL-URL:https://arkiv.barniuppsala.se
X-WR-CALDESC:Händelser för Arkiv för Barn i Uppsala
BEGIN:VTIMEZONE
TZID:Europe/Stockholm
BEGIN:DAYLIGHT
TZOFFSETFROM:+0100
TZOFFSETTO:+0200
TZNAME:CEST
DTSTART:20170326T010000
END:DAYLIGHT
BEGIN:STANDARD
TZOFFSETFROM:+0200
TZOFFSETTO:+0100
TZNAME:CET
DTSTART:20171029T010000
END:STANDARD
END:VTIMEZONE
BEGIN:VEVENT
DTSTART;TZID=Europe/Stockholm:20170319T110000
DTEND;TZID=Europe/Stockholm:20170319T123000
DTSTAMP:20260421T085320
CREATED:20170303T100933Z
LAST-MODIFIED:20170315T154003Z
UID:11553-1489921200-1489926600@arkiv.barniuppsala.se
SUMMARY:Vårshow: Disney World Wide
DESCRIPTION:Vårshow 2017\nUppsala Allmänna Konståkningsklubb bjuder på vårshow! I år får du följa med disneykaraktärer på en resa runt jorden med temat “Disney World Wide”! \nNär?\nSöndagen den 19 mars 2017 kl. 11.00 för allmänheten.\nMåndagen den 20 mars 2017 kl. 09.30 för förskolor & skolor. \nShowen håller på ungefär 1½ timme. \nVar?\nA-hallen\, Gränby ishallar. \nInträde?\nSöndagens föreställning kostar 50kr /vuxen och 20kr /barn upp till 15år. \n0SHARESDela eventet
URL:https://arkiv.barniuppsala.se/event/varshow-disney-world-wide/
LOCATION:Gränby Ishallar\, Råbyvägen 71\, Uppsala\, 75430\, Sverige
ATTACH;FMTTYPE=image/png:https://arkiv.barniuppsala.se/wp-content/uploads/2017/03/varshow-2017.png
GEO:59.8802357;17.6565891
X-APPLE-STRUCTURED-LOCATION;VALUE=URI;X-ADDRESS=Gränby Ishallar Råbyvägen 71 Uppsala 75430 Sverige;X-APPLE-RADIUS=500;X-TITLE=Råbyvägen 71:geo:17.6565891,59.8802357
END:VEVENT
END:VCALENDAR