BEGIN:VCALENDAR
VERSION:2.0
PRODID:-//Arkiv för Barn i Uppsala - ECPv5.1.6//NONSGML v1.0//EN
CALSCALE:GREGORIAN
METHOD:PUBLISH
X-WR-CALNAME:Arkiv för Barn i Uppsala
X-ORIGINAL-URL:https://arkiv.barniuppsala.se
X-WR-CALDESC:Händelser för Arkiv för Barn i Uppsala
BEGIN:VTIMEZONE
TZID:Europe/Stockholm
BEGIN:DAYLIGHT
TZOFFSETFROM:+0100
TZOFFSETTO:+0200
TZNAME:CEST
DTSTART:20160327T010000
END:DAYLIGHT
BEGIN:STANDARD
TZOFFSETFROM:+0200
TZOFFSETTO:+0100
TZNAME:CET
DTSTART:20161030T010000
END:STANDARD
END:VTIMEZONE
BEGIN:VEVENT
DTSTART;TZID=Europe/Stockholm:20160528T110000
DTEND;TZID=Europe/Stockholm:20160528T160000
DTSTAMP:20260421T103047
CREATED:20160523T073530Z
LAST-MODIFIED:20160523T074223Z
UID:7097-1464433200-1464451200@arkiv.barniuppsala.se
SUMMARY:Vem äter träd?
DESCRIPTION:Familjeaktivitet. Vem äter träd? \nI döda och döende träd finns massor av liv! Skalbaggar avslöjas av sina hål och gångar i träden. Och vem gillar i sin tur att äta insekterna? De flerhundraåriga tallarna i Kronparken är som ett smörgåsbord för bland annat den stora hackspetten spillkråkan. Låna kikare och lupp och upptäck livet i tallarna! Ta gärna med fika eller lunchmatsäck. Kronparken är ett fint utflyktsmål för både stora och små! Kl 13 sker en guidning för vuxna om vedlevande insekter i samma område. Anmälan: Nej. Arrangör: Biotopia. Tallarna i Kronparken är ett av Uppsala kommuns Smultronställen. Evenemanget är en del av utflyktsprogrammet\, se www.biotopia.nu/kalender  för mer information. \nBild:pixabay.com. \n0SHARESDela eventet
URL:https://arkiv.barniuppsala.se/event/vem-ater-trad/
LOCATION:Kronparken\, Regementsvägen\, Uppsala\, 75237\, Sverige
CATEGORIES:Natur
ATTACH;FMTTYPE=image/jpeg:https://arkiv.barniuppsala.se/wp-content/uploads/2016/05/insekt.jpg
ORGANIZER;CN="Biotopia":MAILTO:info@biotopia.nu
GEO:59.8397428;17.6432941
X-APPLE-STRUCTURED-LOCATION;VALUE=URI;X-ADDRESS=Kronparken Regementsvägen Uppsala 75237 Sverige;X-APPLE-RADIUS=500;X-TITLE=Regementsvägen:geo:17.6432941,59.8397428
END:VEVENT
END:VCALENDAR