BEGIN:VCALENDAR
VERSION:2.0
PRODID:-//Arkiv för Barn i Uppsala - ECPv5.1.6//NONSGML v1.0//EN
CALSCALE:GREGORIAN
METHOD:PUBLISH
X-WR-CALNAME:Arkiv för Barn i Uppsala
X-ORIGINAL-URL:https://arkiv.barniuppsala.se
X-WR-CALDESC:Händelser för Arkiv för Barn i Uppsala
BEGIN:VTIMEZONE
TZID:Europe/Stockholm
BEGIN:DAYLIGHT
TZOFFSETFROM:+0100
TZOFFSETTO:+0200
TZNAME:CEST
DTSTART:20160327T010000
END:DAYLIGHT
BEGIN:STANDARD
TZOFFSETFROM:+0200
TZOFFSETTO:+0100
TZNAME:CET
DTSTART:20161030T010000
END:STANDARD
END:VTIMEZONE
BEGIN:VEVENT
DTSTART;TZID=Europe/Stockholm:20161119T110000
DTEND;TZID=Europe/Stockholm:20161119T114500
DTSTAMP:20260420T201447
CREATED:20161102T105135Z
LAST-MODIFIED:20161102T105135Z
UID:9075-1479553200-1479555900@arkiv.barniuppsala.se
SUMMARY:Zigga Zing; Musikäventyr med Ensemble Yria
DESCRIPTION:Vi packar kappsäcken och drar iväg med Draken Pyr och Tande tusenfoting.\nEtt musikäventyr för barn 1-5 år där alla får vara med och svänga loss när vi bubblar\, trollar\, kvackar som ankor och flaxflyger ända fram till Draken Pyrs grotta. \nFöreställningen är kostnadsfri och är ca 35 minuter långt. Gratisbiljetter finns att hämta på Knivsta bibliotek from. lördag 12 november. \nDet går även att beställa biljetter per telefon: 34 72 30 \n \nNär: Lördag 19 november kl. 11.00 \nVar: Knivsta bibliotek \n  \nBilder från pixabay.com \n0SHARESDela eventet
URL:https://arkiv.barniuppsala.se/event/zigga-zing-musikaventyr-med-ensemble-yria/
LOCATION:Knivsta bibliotek\, Centralvägen 18\, Knivsta\, 741 40\, Sverige
CATEGORIES:Teater,Teater och Bio
ATTACH;FMTTYPE=image/png:https://arkiv.barniuppsala.se/wp-content/uploads/2016/11/Barn.png
GEO:59.7276856;17.7857663
X-APPLE-STRUCTURED-LOCATION;VALUE=URI;X-ADDRESS=Knivsta bibliotek Centralvägen 18 Knivsta 741 40 Sverige;X-APPLE-RADIUS=500;X-TITLE=Centralvägen 18:geo:17.7857663,59.7276856
END:VEVENT
END:VCALENDAR